BEGIN:VCALENDAR
VERSION:2.0
PRODID:-//IP.Board Calendar 4.5.4.2//EN
METHOD:PUBLISH
CALSCALE:GREGORIAN
X-WR-CALNAME:Aktuelle Termine
BEGIN:VTIMEZONE
TZID:Europe/London
TZURL:http://tzurl.org/zoneinfo/Europe/London
X-LIC-LOCATION:Europe/London
BEGIN:DAYLIGHT
TZOFFSETFROM:+0000
TZOFFSETTO:+0100
TZNAME:BST
DTSTART:20260329T020000Z
RRULE:FREQ=YEARLY;BYMONTH=3;BYDAY=-1SU
END:DAYLIGHT
BEGIN:STANDARD
TZOFFSETFROM:+0100
TZOFFSETTO:+0000
TZNAME:GMT
DTSTART:20261025T020000Z
RRULE:FREQ=YEARLY;BYMONTH=10;BYDAY=-1SU
END:STANDARD
END:VTIMEZONE
BEGIN:VEVENT
SUMMARY:Gottesdienst zum Neujahrsempfang der Kirchengemeinden in Kir
	chlinteln
DTSTAMP:20251122T160819Z
SEQUENCE:0
UID:1056-1-696b346703e41c55c41417f14f6518ef@www.kirchengemeinde-wittlohe.de
ORGANIZER;CN="Sonja Butz-Georg":support@kirchengemeinde-witt
	lohe.de
DESCRIPTION:\n	Einladung der evangelisch-lutherischen Kirchengemeinden S
	t. Petri Kirchlinteln\, St. Jakobi Wittlohe und St. Matthäus Brunsbrock z
	um Neujahrsempfang in die St. Petri-Kirche Kirchlinteln. Der gemeinsam ges
	taltete Gottesdienst beginnt um 10 Uhr und nimmt die aktuelle Jahreslosu
	ng auf: „Siehe\, ich mache alles neu!“ Auch die persönliche Sicht der
	 Gottesdienstbesucher soll dabei zur Darstellung kommen. Musikalisch gibt 
	es sowohl Vertrautes als auch das ein oder andere neue Lied zu entdecken. 
	Insa Heimsoth übernimmt dabei die Begleitung an Orgel und E-Piano.\n\n\n\
	n	Nach dem Segen sind alle eingeladen\, zum Empfang in der Kirche zu bleib
	en. Bei Getränken und Gebäck ergeben sich hoffentlich gute Gespräche\, 
	auch mit den anwesenden Vertretern aus Politik\, Institutionen und Vereine
	n. Der Neujahrsempfang der Kirchengemeinden findet in Kirchlinteln im jäh
	rlichen Wechsel mit dem „Tag des Ehrenamtes“ der politischen Gemeinde 
	statt und wird von den Kirchengemeinden im Wechsel ausgerichtet\, in diese
	m Jahr von der St. Petri-Kirchengemeinde.\n
DTSTART:20260118T090000Z
END:VEVENT
END:VCALENDAR
