BEGIN:VCALENDAR
VERSION:2.0
PRODID:-//IP.Board Calendar 4.5.4.2//EN
METHOD:PUBLISH
CALSCALE:GREGORIAN
X-WR-CALNAME:Aktuelle Termine
BEGIN:VTIMEZONE
TZID:Europe/London
TZURL:http://tzurl.org/zoneinfo/Europe/London
X-LIC-LOCATION:Europe/London
BEGIN:DAYLIGHT
TZOFFSETFROM:+0000
TZOFFSETTO:+0100
TZNAME:BST
DTSTART:20240331T020000Z
RRULE:FREQ=YEARLY;BYMONTH=3;BYDAY=-1SU
END:DAYLIGHT
BEGIN:STANDARD
TZOFFSETFROM:+0100
TZOFFSETTO:+0000
TZNAME:GMT
DTSTART:20241027T020000Z
RRULE:FREQ=YEARLY;BYMONTH=10;BYDAY=-1SU
END:STANDARD
END:VTIMEZONE
BEGIN:VEVENT
SUMMARY:Kirchenkreis-Gottesdienst zur 40-jährigen Partnerschaft mit
	 dem südafrikanischen Kirchenkreis
DTSTAMP:20240201T065121Z
SEQUENCE:0
UID:598-1-696b346703e41c55c41417f14f6518ef@www.kirchengemeinde-wittlohe.de
ORGANIZER;CN="Sonja Butz-Georg":support@kirchengemeinde-witt
	lohe.de
DESCRIPTION:\n	In diesem Jahr besteht die Partnerschaft zum südafrikani
	schen Kirchenkreis Shiyane seit 40 Jahren.\n\n\n\n	Grund genug\, im gemein
	samen Kirchenkreis-Gottesdienst am Sonntag\, 26. Mai\, zu feiern und „D
	anke!“ zu sagen – auf Zulu : Siyabonga!\n\n\n\n	Eine Gruppe mit Super
	intendent Fulko Steinhausen und Mitgliedern aus dem Partnerschaftsausschus
	s bereitet den Gottesdienst vor.\n\n\n\n	Es wird Berichte aus dem Partner-
	Kirchenkreis und von den Begegnungen geben. Musikalisch tragen mehrere Ch
	öre aus dem Kirchenkreis unter Leitung von Regine Popp und Micha Keding z
	ur Feier bei. Der Gottesdienst beginnt um 11 Uhr im Dom zu Verden. Im A
	nschluss ist Gelegenheit zu Begegnung und Austausch bei einem Kirchencafé
	.\n\n\n\n	………………………………………………\n
DTSTART:20240526T090000Z
END:VEVENT
END:VCALENDAR
