BEGIN:VCALENDAR
VERSION:2.0
PRODID:-//IP.Board Calendar 4.5.4.2//EN
METHOD:PUBLISH
CALSCALE:GREGORIAN
X-WR-CALNAME:Aktuelle Termine
BEGIN:VTIMEZONE
TZID:Europe/London
TZURL:http://tzurl.org/zoneinfo/Europe/London
X-LIC-LOCATION:Europe/London
BEGIN:DAYLIGHT
TZOFFSETFROM:+0000
TZOFFSETTO:+0100
TZNAME:BST
DTSTART:20240331T020000Z
RRULE:FREQ=YEARLY;BYMONTH=3;BYDAY=-1SU
END:DAYLIGHT
BEGIN:STANDARD
TZOFFSETFROM:+0100
TZOFFSETTO:+0000
TZNAME:GMT
DTSTART:20241027T020000Z
RRULE:FREQ=YEARLY;BYMONTH=10;BYDAY=-1SU
END:STANDARD
END:VTIMEZONE
BEGIN:VEVENT
SUMMARY:Kirchenvorstandswahl - Ende der Online-Wahl um 24.00 Uhr
DTSTAMP:20240217T144726Z
SEQUENCE:0
UID:603-1-696b346703e41c55c41417f14f6518ef@www.kirchengemeinde-wittlohe.de
ORGANIZER;CN="Sonja Butz-Georg":support@kirchengemeinde-witt
	lohe.de
DESCRIPTION:\n	Heute um 24 Uhr endet der Zeitraum für die Online-Wahl.\
	n\n\n\n	Sollten Sie bis jetzt nicht online gewählt haben\, können Sie no
	ch Briefwahl machen oder am 10. März von 11 bis 15 Uhr im Gemeindehaus w
	ählen.\n\n\n\n	https://www.kirchemitmir.de/meine-kirche/hannover/wahl24\n
DTSTART:20240302T230000Z
END:VEVENT
END:VCALENDAR
