BEGIN:VCALENDAR
VERSION:2.0
PRODID:-//IP.Board Calendar 4.5.4.2//EN
METHOD:PUBLISH
CALSCALE:GREGORIAN
X-WR-CALNAME:Aktuelle Termine
BEGIN:VTIMEZONE
TZID:Europe/London
TZURL:http://tzurl.org/zoneinfo/Europe/London
X-LIC-LOCATION:Europe/London
BEGIN:DAYLIGHT
TZOFFSETFROM:+0000
TZOFFSETTO:+0100
TZNAME:BST
DTSTART:20240331T020000Z
RRULE:FREQ=YEARLY;BYMONTH=3;BYDAY=-1SU
END:DAYLIGHT
BEGIN:STANDARD
TZOFFSETFROM:+0100
TZOFFSETTO:+0000
TZNAME:GMT
DTSTART:20241027T020000Z
RRULE:FREQ=YEARLY;BYMONTH=10;BYDAY=-1SU
END:STANDARD
END:VTIMEZONE
BEGIN:VEVENT
SUMMARY:Fahrt ins Konzentrationslager nach Bergen Belsen
DTSTAMP:20240316T123725Z
SEQUENCE:0
UID:625-1-696b346703e41c55c41417f14f6518ef@www.kirchengemeinde-wittlohe.de
ORGANIZER;CN="Sonja Butz-Georg":support@kirchengemeinde-witt
	lohe.de
DESCRIPTION:\n	Heute findet die - freiwillige - Fahrt der Konfirmandinne
	n und Konfirmanden ins Konzentrationslager nach Bergen Belsen statt. DAs 
	KU-Team begleitet die Jugendlichen. Wer aus der Gemeinde mitfahren möchte
	\, kann sich an Pastor Wilhelm Timme wenden.\n
DTSTART:20240914T070000Z
DTEND:20240914T140000Z
END:VEVENT
END:VCALENDAR
