BEGIN:VCALENDAR
VERSION:2.0
PRODID:-//IP.Board Calendar 4.5.4.2//EN
METHOD:PUBLISH
CALSCALE:GREGORIAN
X-WR-CALNAME:Aktuelle Termine
BEGIN:VTIMEZONE
TZID:Europe/London
TZURL:http://tzurl.org/zoneinfo/Europe/London
X-LIC-LOCATION:Europe/London
BEGIN:DAYLIGHT
TZOFFSETFROM:+0000
TZOFFSETTO:+0100
TZNAME:BST
DTSTART:20240331T020000Z
RRULE:FREQ=YEARLY;BYMONTH=3;BYDAY=-1SU
END:DAYLIGHT
BEGIN:STANDARD
TZOFFSETFROM:+0100
TZOFFSETTO:+0000
TZNAME:GMT
DTSTART:20241027T020000Z
RRULE:FREQ=YEARLY;BYMONTH=10;BYDAY=-1SU
END:STANDARD
END:VTIMEZONE
BEGIN:VEVENT
SUMMARY:Diakonie-Gottesdienst in Wittlohe
DTSTAMP:20240729T041441Z
SEQUENCE:0
UID:691-1-696b346703e41c55c41417f14f6518ef@www.kirchengemeinde-wittlohe.de
ORGANIZER;CN="Sonja Butz-Georg":support@kirchengemeinde-witt
	lohe.de
DESCRIPTION:\n	\n\n\n	Auch in diesem Jahr feiern wir einen Diakoniegott
	esdienst mit Pastor Wilhelm Timme. Die Woche der Diakonie steht diesmal un
	ter dem Motto „Raum geben“. Wir möchten dazu ermutigen\, die aktuelle
	n Entwicklungen anzusprechen sowie den Sorgen\, Nöten und Fragen der Mens
	chen Raum zugeben. Uwe Roggatz wird in diesem Gottesdienst über die Hilfs
	maßnahmen für die Ukraine und die Partnerstadt von Kirchlinteln Tlumatsc
	h berichten. Die Not in der Ukraine ist groß und unsere Partnerschaft bra
	ucht vielfältige Hilfe.  Mehr denn je geht es darum\, dass wir Verantwo
	rtung füreinander übernehmen.\n\n\n\n	Die musikalische Begleitung in die
	sem Gottesdienst übernimmt Karin Hartmann.\n\n\n\n	Copyright Bild Diakoni
	e: DREIGESTALTEN\n\n
DTSTART:20240901T080000Z
END:VEVENT
END:VCALENDAR
