BEGIN:VCALENDAR
VERSION:2.0
PRODID:-//IP.Board Calendar 4.5.4.2//EN
METHOD:PUBLISH
CALSCALE:GREGORIAN
X-WR-CALNAME:Aktuelle Termine
BEGIN:VTIMEZONE
TZID:Europe/London
TZURL:http://tzurl.org/zoneinfo/Europe/London
X-LIC-LOCATION:Europe/London
BEGIN:DAYLIGHT
TZOFFSETFROM:+0000
TZOFFSETTO:+0100
TZNAME:BST
DTSTART:20250330T020000Z
RRULE:FREQ=YEARLY;BYMONTH=3;BYDAY=-1SU
END:DAYLIGHT
BEGIN:STANDARD
TZOFFSETFROM:+0100
TZOFFSETTO:+0000
TZNAME:GMT
DTSTART:20251026T020000Z
RRULE:FREQ=YEARLY;BYMONTH=10;BYDAY=-1SU
END:STANDARD
END:VTIMEZONE
BEGIN:VEVENT
SUMMARY:KiWi-Sommerkirche in Kirchlinteln
DTSTAMP:20250627T092603Z
SEQUENCE:0
UID:920-1-696b346703e41c55c41417f14f6518ef@www.kirchengemeinde-wittlohe.de
ORGANIZER;CN="Sonja Butz-Georg":support@kirchengemeinde-witt
	lohe.de
DESCRIPTION:\n	In der Sommerzeit feiern wir in der Region KiWi Kirchlint
	eln und Wittlohe abwechselnd Sommerkirche.\n\n\n\n	Heute geht es im Gottes
	dienst mit Pastor Dennis Oswich und Diakonin i. R. Gabriele Hirte um die D
	eutsche Gesellschaft zur Rettung Schiffbrüchiger.\n\n\n\n	Beide Gemeinden
	 sind herzlich eingeladen\, zu den Gottesdiensten mal die andere Kirche 
	zu besuchen.\n
DTSTART:20250706T080000Z
END:VEVENT
END:VCALENDAR
