BEGIN:VCALENDAR
VERSION:2.0
PRODID:-//IP.Board Calendar 4.5.4.2//EN
METHOD:PUBLISH
CALSCALE:GREGORIAN
X-WR-CALNAME:Aktuelle Termine
BEGIN:VTIMEZONE
TZID:Europe/London
TZURL:http://tzurl.org/zoneinfo/Europe/London
X-LIC-LOCATION:Europe/London
BEGIN:DAYLIGHT
TZOFFSETFROM:+0000
TZOFFSETTO:+0100
TZNAME:BST
DTSTART:20250330T020000Z
RRULE:FREQ=YEARLY;BYMONTH=3;BYDAY=-1SU
END:DAYLIGHT
BEGIN:STANDARD
TZOFFSETFROM:+0100
TZOFFSETTO:+0000
TZNAME:GMT
DTSTART:20251026T020000Z
RRULE:FREQ=YEARLY;BYMONTH=10;BYDAY=-1SU
END:STANDARD
END:VTIMEZONE
BEGIN:VEVENT
SUMMARY:Fledermaus-Picknick an der Kirche in Kirchlinteln
DTSTAMP:20250701T170409Z
SEQUENCE:0
UID:932-1-696b346703e41c55c41417f14f6518ef@www.kirchengemeinde-wittlohe.de
ORGANIZER;CN="Sonja Butz-Georg":support@kirchengemeinde-witt
	lohe.de
DESCRIPTION:\n	Am 12. Juli laden NaBu Kirchlinteln und die Evangelisch-l
	utherische St. Petri-Kirchengemeinde schon zum dritten Fledermaus-Picknick
	 rund um die Kirche ein. Ab 19:30 Uhr gibt es Wissenswertes rund um die 
	„Schönheiten der Nacht“ und besonders über das „Große Mausohr“\
	, das in großer Population auf dem Dachboden der Kirche ein Zuhause gefun
	den hat. Auf dem Kirchplatz können zu stimmungsvoller Musik die Picknickd
	ecken ausgebreitet werden. Für Getränke sorgt die St. Petri-Stiftung und
	 in diesem Jahr gibt es mit Diakonin Marieke Rahn auch ein buntes Angebot 
	für Kinder und Familien.\n\n
DTSTART:20250712T173000Z
END:VEVENT
END:VCALENDAR
